BEGIN:VCALENDAR
VERSION:2.0
PRODID:https://www.kufer.de/kuferweb / DE
METHOD:PUBLISH
CALSCALE:GREGORIAN
X-WR-TIMEZONE:Europe/Berlin
BEGIN:VTIMEZONE
TZID:Europe/Berlin
X-LIC-LOCATION:Europe/Berlin
BEGIN:DAYLIGHT
TZOFFSETFROM:+0100
TZOFFSETTO:+0200
TZNAME:CEST
DTSTART:19700329T020000
RRULE:FREQ=YEARLY;INTERVAL=1;BYDAY=-1SU;BYMONTH=3
END:DAYLIGHT
BEGIN:STANDARD
TZOFFSETFROM:+0200
TZOFFSETTO:+0100
TZNAME:CET
DTSTART:19701025T030000
RRULE:FREQ=YEARLY;INTERVAL=1;BYDAY=-1SU;BYMONTH=10
END:STANDARD
END:VTIMEZONE
BEGIN:VEVENT
DTSTAMP:20260422T152754
DTSTART;TZID=Europe/Berlin:20260518T113000
DTEND;TZID=Europe/Berlin:20260518T123000
UID:26-70-04B-20260518T113000@EFBDELMENHORST
SUMMARY:Entspannungs-Trilogie für ältere Menschen (26-70-04B) 
LOCATION:Ev. Gemeindehaus Bungerhof
END:VEVENT
BEGIN:VEVENT
DTSTAMP:20260422T152754
DTSTART;TZID=Europe/Berlin:20260601T113000
DTEND;TZID=Europe/Berlin:20260601T123000
UID:26-70-04B-20260601T113000@EFBDELMENHORST
SUMMARY:Entspannungs-Trilogie für ältere Menschen (26-70-04B) 
LOCATION:Ev. Gemeindehaus Bungerhof
END:VEVENT
BEGIN:VEVENT
DTSTAMP:20260422T152754
DTSTART;TZID=Europe/Berlin:20260608T113000
DTEND;TZID=Europe/Berlin:20260608T123000
UID:26-70-04B-20260608T113000@EFBDELMENHORST
SUMMARY:Entspannungs-Trilogie für ältere Menschen (26-70-04B) 
LOCATION:Ev. Gemeindehaus Bungerhof
END:VEVENT
BEGIN:VEVENT
DTSTAMP:20260422T152754
DTSTART;TZID=Europe/Berlin:20260615T113000
DTEND;TZID=Europe/Berlin:20260615T123000
UID:26-70-04B-20260615T113000@EFBDELMENHORST
SUMMARY:Entspannungs-Trilogie für ältere Menschen (26-70-04B) 
LOCATION:Ev. Gemeindehaus Bungerhof
END:VEVENT
BEGIN:VEVENT
DTSTAMP:20260422T152754
DTSTART;TZID=Europe/Berlin:20260622T113000
DTEND;TZID=Europe/Berlin:20260622T123000
UID:26-70-04B-20260622T113000@EFBDELMENHORST
SUMMARY:Entspannungs-Trilogie für ältere Menschen (26-70-04B) 
LOCATION:Ev. Gemeindehaus Bungerhof
END:VEVENT
BEGIN:VEVENT
DTSTAMP:20260422T152754
DTSTART;TZID=Europe/Berlin:20260629T113000
DTEND;TZID=Europe/Berlin:20260629T123000
UID:26-70-04B-20260629T113000@EFBDELMENHORST
SUMMARY:Entspannungs-Trilogie für ältere Menschen (26-70-04B) 
LOCATION:Ev. Gemeindehaus Bungerhof
END:VEVENT
END:VCALENDAR